BEGIN:VCALENDAR
VERSION:2.0
PRODID:-//BluePath Health - ECPv6.15.17.1//NONSGML v1.0//EN
CALSCALE:GREGORIAN
METHOD:PUBLISH
X-WR-CALNAME:BluePath Health
X-ORIGINAL-URL:https://bluepathhealth.com
X-WR-CALDESC:Events for BluePath Health
REFRESH-INTERVAL;VALUE=DURATION:PT1H
X-Robots-Tag:noindex
X-PUBLISHED-TTL:PT1H
BEGIN:VTIMEZONE
TZID:UTC
BEGIN:STANDARD
TZOFFSETFROM:+0000
TZOFFSETTO:+0000
TZNAME:UTC
DTSTART:20240101T000000
END:STANDARD
END:VTIMEZONE
BEGIN:VEVENT
DTSTART;TZID=UTC:20250328T100000
DTEND;TZID=UTC:20250328T113000
DTSTAMP:20260419T053227
CREATED:20250212T080000Z
LAST-MODIFIED:20250627T202256Z
UID:10000012-1743156000-1743161400@bluepathhealth.com
SUMMARY:Alameda CalAIM PATH March Collaborative Meeting
DESCRIPTION:The Alameda County PATH Collaborative brings together health plans\, county leaders\, community-based organizations\, hospitals\, clinics\, and other CalAIM stakeholders to discuss CalAIM implementation and the rollout of Enhanced Care Management (ECM) and Community Supports (CS). The Collaborative is a space to share innovative strategies\, problem-solve together\, and build relationships to better serve Medi-Cal members in Alameda County.
URL:https://bluepathhealth.com/event/alameda-calaim-path-march-collaborative-meeting/
LOCATION:Zoom
CATEGORIES:Alameda,CalAIM
END:VEVENT
END:VCALENDAR